BEGIN:VCALENDAR
PRODID:-//www.cityofliterature.co.nz//EN
VERSION:2.0
METHOD:PUBLISH
BEGIN:VEVENT
DTSTART;TZID=America/New_York:20170507T140000
DTEND;TZID=America/New_York:20170507T143000
URL:https://www.cityofliterature.co.nz/whats-on/once-upon-a-sunday/
SUMMARY:Once Upon a Sunday: Sing me a story 
LOCATION:
DESCRIPTION:Join us for stories and songs in our special New Zealand Music Month celebration with Kat Anna Fiddle - local storyteller Kaitrin McMullan and musician Anna Bowen.
Come and make a kazoo to play in our band!
For children of all ages.
Children’s Storypit, Ground Floor, City Library, Moray Place
END:VEVENT
END:VCALENDAR