BEGIN:VCALENDAR
PRODID:-//www.cityofliterature.co.nz//EN
VERSION:2.0
METHOD:PUBLISH
BEGIN:VEVENT
DTSTART;TZID=America/New_York:20170402T140000
DTEND;TZID=America/New_York:20170402T143000
URL:https://www.cityofliterature.co.nz/whats-on/once-upon-a-sunday-ninconmerdes-and-numbskulls/
SUMMARY:Once Upon a Sunday: Ninconmerdes and Numbskulls
LOCATION:
DESCRIPTION:Did you hear some good jokes on April Fools’ Day?We’ve got some great ones to share with you. Come and listen to some rib-ticklers with Kaitrin McMullan and tell us some of yours.
For children of all ages.
Children’s Storypit, Ground Floor, City Library, Moray Place
END:VEVENT
END:VCALENDAR