BEGIN:VCALENDAR
PRODID:-//www.cityofliterature.co.nz//EN
VERSION:2.0
METHOD:PUBLISH
BEGIN:VEVENT
DTSTART;TZID=America/New_York:20170305T140000
DTEND;TZID=America/New_York:20170305T143000
URL:https://www.cityofliterature.co.nz/whats-on/once-upon-a-sunday-teddy-bears-picnic-2/
SUMMARY:Once Upon a Sunday: Teddy Bears' Picnic
LOCATION:
DESCRIPTION:It’s Children’s Day!Join us for a special Sunday storytime picnic, with local storyteller Kaitrin McMullan, and learn a teddy dance.Remember to bring your teddy bear!
STORIES WILL BE ALSO BE SIGNED IN NZ Sign Language
For children of all ages.
Children's Storypit, Ground Floor, City Library, Moray Place, Dunedin
END:VEVENT
END:VCALENDAR