BEGIN:VCALENDAR
PRODID:-//www.cityofliterature.co.nz//EN
VERSION:2.0
METHOD:PUBLISH
BEGIN:VEVENT
DTSTART;TZID=America/New_York:20170125T190000
DTEND;TZID=America/New_York:20170125T
URL:https://www.cityofliterature.co.nz/whats-on/burns-night-dinner-burns-on-war-and-peace/
SUMMARY:Burn’s Night Dinner: Burns on war and peace
LOCATION:
DESCRIPTION:Dunedin fans of Robbie Burns have been celebrating the poet’s birthday since 1855. Join Toitū and the Dunedin Burns Club to hear about Burns on war and peace from the Commanding Officer of 2/4 Royal New Zealand Infantry Regiment, Lieutenant-Colonel Amanda Brosnan, and Dunedin peace activist Professor Peter Matheson.
Enjoy traditional Scottish food and drink. Listen to young Dunedin musicians re-interpreting classic Burns songs. Hear the winners of the Burns poetry competition. Sample some haggis and whisky.
Re-discover your inner Scot in the Edinburgh of the South!
Booking required, tickets limited, contact toituosm@dcc.govt.nz or (03) 477 5052$60 per ticketToitū Otago Settlers Museum
END:VEVENT
END:VCALENDAR