BEGIN:VCALENDAR
PRODID:-//www.cityofliterature.co.nz//EN
VERSION:2.0
METHOD:PUBLISH
BEGIN:VEVENT
DTSTART;TZID=America/New_York:20161207T173000
DTEND;TZID=America/New_York:20161207T193000
URL:https://www.cityofliterature.co.nz/whats-on/ubs-annual-festive-booklovers-shopping-evening/
SUMMARY:UBS Annual Festive Booklovers' Shopping Evening
LOCATION:
DESCRIPTION:Join us for our annual festive Booklovers’ Shopping Evening:
Free giftwrapping
Fabulous range of books and quirky gifts – you will find exactly the right ones for your special people!
15% discount storewide (excludes already discounted items)
Specialist booksellers, as full of suggestions and recommendations as well-stuffed Christmas stockings!
Christmassy nibbles
RSVP for catering purposes:events@unibooks.co.nz | 03 477 6976
You can also leave your Booklovers’ Christmas Wish List with us, and we’ll pick, pack, wrap and either post your selections or have for you to pick-up at your leisure!University Book Shop Otago, 378 Great King St, Dunedin
END:VEVENT
END:VCALENDAR