BEGIN:VCALENDAR
PRODID:-//www.cityofliterature.co.nz//EN
VERSION:2.0
METHOD:PUBLISH
BEGIN:VEVENT
DTSTART;TZID=America/New_York:20161216T170000
DTEND;TZID=America/New_York:20161216T190000
URL:https://www.cityofliterature.co.nz/whats-on/christmas-capers-in-the-childrens-room-at-the-university-book-shop/
SUMMARY:Christmas Capers in the Children’s Room at the University Book Shop
LOCATION:
DESCRIPTION:Celebrate the end of term with Christmas Capers in the Children’s Room at the University Book Shop: Christmassy stories and songs, craft activities, a character hunt, Christmas treats for young and old; most suitable for ages 2 -7 but booklovers young and old are welcome. Come as you are, your favourite book character or perhaps in your p.j’s or onesie!
University Book Shop Otago, 378 Great King St, Dunedin
END:VEVENT
END:VCALENDAR