BEGIN:VCALENDAR
PRODID:-//www.cityofliterature.co.nz//EN
VERSION:2.0
METHOD:PUBLISH
BEGIN:VEVENT
DTSTART;TZID=America/New_York:20170319T110000
DTEND;TZID=America/New_York:20170319T150000
URL:https://www.cityofliterature.co.nz/whats-on/international-storytelling-festival-around-the-world-in-80-tales/
SUMMARY:International Storytelling Festival: Around the World in 80 Tales
LOCATION:
DESCRIPTION:Take a journey around the world, through the stories from some of Dunedin’s diverse cultures.
Over 15 different languages and performers, plus dance, puppets, music and song.
Be part of this inaugural Dunedin festival for International Storytelling Day. A chance to celebrate diversity, hear other languages and experience the universality of story.
All welcome: suitable 0-100 years
Dunedin City Library
FREE
 
END:VEVENT
END:VCALENDAR