BEGIN:VCALENDAR
PRODID:-//www.cityofliterature.co.nz//EN
VERSION:2.0
METHOD:PUBLISH
BEGIN:VEVENT
DTSTART;TZID=America/New_York:20161126T110000
DTEND;TZID=America/New_York:20161126T120000
URL:https://www.cityofliterature.co.nz/whats-on/author-talk-morning-tea-with-deborah-challinor/
SUMMARY:Author Talk: Morning Tea with Deborah Challinor
LOCATION:
DESCRIPTION:Come and meet best-selling historical novelist, Deborah Challinor, over morning tea at the Library.
Deborah will be speaking on the topic of her dramatic new novel, The Cloud Leopard’s Daughter, featuring her much-loved characters Kitty, Amber and Rian.
Brought to you in partnership with the University Book Shop Otago and Harper Collins publishers.
Books will be available for purchase on the day, courtesy of University Book Shop Otago. (EFTPOS available)BOOKINGS ESSENTIAL
4th Floor, Dunedin City Library
FREE
END:VEVENT
END:VCALENDAR