BEGIN:VCALENDAR
PRODID:-//www.cityofliterature.co.nz//EN
VERSION:2.0
METHOD:PUBLISH
BEGIN:VEVENT
DTSTART;TZID=America/New_York:20161101T180000
DTEND;TZID=America/New_York:20161101T190000
URL:https://www.cityofliterature.co.nz/whats-on/backstage-at-the-library-fortune-theatres-production-of-the-mystery-of-irma-vep/
SUMMARY:Backstage at the Library: Fortune Theatre's Production of the Mystery of Irma Vep
LOCATION:
DESCRIPTION:Behind the scenes of the Fortune Theatre’s last production of the year, a hilarious mad-cap satire of a Victorian melodrama about what really happened to Irma Vep, the Lady of the House.
The cast and crew present an intriguing peek beyond the curtain of this upcoming production, based on a Penny Dreadful by Charles Ludlam.
Be prepared for howling werewolves, motley mummies, and villainous vampires everywhere you turn in this rapid-fire festive farce!
Bookings Essential
Join us for drinks from 5.30pm, courtesy of the Fortune Theatre4th Floor, City Library
END:VEVENT
END:VCALENDAR