BEGIN:VCALENDAR
PRODID:-//www.cityofliterature.co.nz//EN
VERSION:2.0
METHOD:PUBLISH
BEGIN:VEVENT
DTSTART;TZID=America/New_York:20161123T190000
DTEND;TZID=America/New_York:20161123T203000
URL:https://www.cityofliterature.co.nz/whats-on/continued-sense-of-wonder-a-series-of-adult-conversations-about-childrens-literature-3/
SUMMARY:Continued Sense of Wonder: A series of adult conversations about children's literature
LOCATION:
DESCRIPTION:Join us this time for a discussion on New Zealand children’s stories.
Bring along an old favourite or a new discovery to share.
This is the last gathering of the year, so make the most of this opportunity to meet like-minded literature lovers.
Booking essential
For more information, contact: Jackie.mcmillan@dcc.govt.nz
Dunningham Suite, 4th Floor, City Library
 
END:VEVENT
END:VCALENDAR