BEGIN:VCALENDAR
PRODID:-//www.cityofliterature.co.nz//EN
VERSION:2.0
METHOD:PUBLISH
BEGIN:VEVENT
DTSTART;TZID=America/New_York:20161029T
DTEND;TZID=America/New_York:20161106T
URL:https://www.cityofliterature.co.nz/whats-on/ropewalk-talking-house-productions/
SUMMARY:Ropewalk: Talking House Productions
LOCATION:
DESCRIPTION:The award-winning Talking House verbatim theatre company specialises in making the ordinary extraordinary. In this short piece of documentary drama, three actors retell intriguing stories from the working lives of the ropemakers of Donaghy's. If you've ever wondered what goes on in that strange factory which stretches some 300m along the edge of Bathgate Park, now's your chance to find out!
Sat 29 Oct 11am
Sun 30 Oct 11am and 2pm
Sun 6 Nov 11am and 2pm
Toitu Otago Settlers Museum
END:VEVENT
END:VCALENDAR