BEGIN:VCALENDAR
PRODID:-//www.cityofliterature.co.nz//EN
VERSION:2.0
METHOD:PUBLISH
BEGIN:VEVENT
DTSTART;TZID=America/New_York:20161028T
DTEND;TZID=America/New_York:20161030T
URL:https://www.cityofliterature.co.nz/whats-on/circus-alice/
SUMMARY:Circus Alice: Brophy's Aerial Studios
LOCATION:
DESCRIPTION:It's now just over 150 years since Alice's Adventures in Wonderland was first published, but this unique tale remains as compelling as ever. Join Alice and a cast of strange and disturbing characters for a journey through a steam-powered Wonderland. Featuring the dazzling performers of Brophy's Aerials in the gritty surrounds of the Gasworks Museum. Adult themes.Gasworks Museum, 20 Braemar St$15/$20 Bookings via Eventfinda
END:VEVENT
END:VCALENDAR