BEGIN:VCALENDAR
PRODID:-//www.cityofliterature.co.nz//EN
VERSION:2.0
METHOD:PUBLISH
BEGIN:VEVENT
DTSTART;TZID=America/New_York:20161027T183000
DTEND;TZID=America/New_York:20161027T
URL:https://www.cityofliterature.co.nz/whats-on/powerhouse-pechakucha/
SUMMARY:Powerhouse PechaKucha
LOCATION:
DESCRIPTION:Twelve fascinating speakers on a wide range of heritage-related topics, including Dunedin author and illustrator David Elliot, who will give us a sneak preview of his exciting new project: a lavishly illustrated re-imagining of Lewis Carroll's Hunting of the Snark.Athenaeum Underground (enter off Moray Place)$10/$15 Bookings via Eventfinda
END:VEVENT
END:VCALENDAR