BEGIN:VCALENDAR
PRODID:-//www.cityofliterature.co.nz//EN
VERSION:2.0
METHOD:PUBLISH
BEGIN:VEVENT
DTSTART;TZID=America/New_York:20161026T171500
DTEND;TZID=America/New_York:20161026T
URL:https://www.cityofliterature.co.nz/whats-on/festival-launch-and-lawson-lecture-from-sweatshop-to-showroom-the-nz-kitchen-in-the-20th-century/
SUMMARY:Festival Launch and Lawson Lecture From Sweatshop to Showroom: the NZ Kitchen in the 20th Century
LOCATION:
DESCRIPTION:Professor Helen Leach is a well-known and widely-published author on NZ culinary history. In this presentation, she will discuss revolutionary changes in kitchen layout and in the utensils and appliances we purchased: though we weren't always aware of it, our menus and food choices were keeping pace.Toitu Otago Settlers Museum
END:VEVENT
END:VCALENDAR