BEGIN:VCALENDAR
PRODID:-//www.cityofliterature.co.nz//EN
VERSION:2.0
METHOD:PUBLISH
BEGIN:VEVENT
DTSTART;TZID=America/New_York:20161117T180000
DTEND;TZID=America/New_York:20161117T200000
URL:https://www.cityofliterature.co.nz/whats-on/jay-margrave-the-truth-behind-the-fiction-of-mary-seacole/
SUMMARY:Jay Margrave: The truth behind the fiction of Mary Seacole
LOCATION:
DESCRIPTION:English author, Jay Margrave’s love of history is brought to the fore in Can Her Glory Ever Fade?, and in this talk Jay explains how she came to write about the life of the ‘black nurse who went to the Crimea’.
Having trained as a journalist and following a career as a lawyer, Jay Margrave now writes ‘mystoricals’ and other historical fiction, as well as editing professional books for the legal profession and writing travel books and poetry, and is currently touring New Zealand.
Brought to you by University Book Shop in partnership with Dunedin Public Libraries.
Dunningham Suite, 4th Floor, Dunedin City Library
FREE
END:VEVENT
END:VCALENDAR