BEGIN:VCALENDAR
PRODID:-//www.cityofliterature.co.nz//EN
VERSION:2.0
METHOD:PUBLISH
BEGIN:VEVENT
DTSTART;TZID=America/New_York:20161103T200000
DTEND;TZID=America/New_York:20161103T
URL:https://www.cityofliterature.co.nz/whats-on/poetry-night/
SUMMARY:Poetry Night
LOCATION:
DESCRIPTION:AIKA+CO (the bar formerly known as Mou./MouVery, on George Street) are holding a new series of poetry readings starting 3 November 2016357 George Street
END:VEVENT
END:VCALENDAR