BEGIN:VCALENDAR
PRODID:-//www.cityofliterature.co.nz//EN
VERSION:2.0
METHOD:PUBLISH
BEGIN:VEVENT
DTSTART;TZID=America/New_York:20161018T200000
DTEND;TZID=America/New_York:20161018T
URL:https://www.cityofliterature.co.nz/whats-on/poetry-at-dog-with-two-tails-3/
SUMMARY:Poetry at Dog with Two Tails
LOCATION:
DESCRIPTION:Please join the Octagon Poetry Collective at Dog With Two Tails at 8pm on Tuesday 18th October, to hear a spectacular line-up! MC Emma Neale will lead us through an evening featuring Jillian Sullivan, Talia Marshall, and students from the 2016 Otago University English Department Poetry Workshop!
Please note: as our cup runneth over with so many guest poets, there will be no open mic at this reading. Please store up your poems for the next one!
Dog with Two Tails, 25 Moray Place
 
END:VEVENT
END:VCALENDAR