BEGIN:VCALENDAR
PRODID:-//www.cityofliterature.co.nz//EN
VERSION:2.0
METHOD:PUBLISH
BEGIN:VEVENT
DTSTART;TZID=America/New_York:20161025T173000
DTEND;TZID=America/New_York:20161025T
URL:https://www.cityofliterature.co.nz/whats-on/book-launch-strip/
SUMMARY:Book Launch: Strip
LOCATION:
DESCRIPTION:You are warmly invited to the launch of Sue Wootton's debut novel Strip.Available to purchase from Makaro Press &amp; all good bookstores.RSVP to bronwyn@unibooks.co.nzUniversity Bookshop, 318 Great King Street, Dunedin
END:VEVENT
END:VCALENDAR