BEGIN:VCALENDAR
PRODID:-//www.cityofliterature.co.nz//EN
VERSION:2.0
METHOD:PUBLISH
BEGIN:VEVENT
DTSTART;TZID=America/New_York:20161217T
DTEND;TZID=America/New_York:20170131T
URL:https://www.cityofliterature.co.nz/whats-on/childrens-summer-reading-programme-around-the-world-in-80-books-the-great-reading-expedition/
SUMMARY:Children’s Summer Reading Programme: Around the World in 80 Books, the Great Reading Expedition
LOCATION:
DESCRIPTION:This year’s children’s Summer Reading Programme starts on Saturday 17th December 2016 at your local Dunedin Public Library. We’re challenging curious adventurers to join our great reading expedition and travel to as many new places as they can through the power of books.
Journey in your imagination far beyond your everyday world on a voyage of infinite discovery..
Our partners for the Great Reading Expedition are the Otago Museum and the University Book Shop Otago, and you can start your journey from the Library, the Museum or the Book Shop. There are exciting challenges to complete at each location for triple the fun!
Saturday 17th December 2016 to Tuesday 31st January 2017All Dunedin Libraries
END:VEVENT
END:VCALENDAR