BEGIN:VCALENDAR
PRODID:-//www.cityofliterature.co.nz//EN
VERSION:2.0
METHOD:PUBLISH
BEGIN:VEVENT
DTSTART;TZID=America/New_York:20161001T
DTEND;TZID=America/New_York:20170115T
URL:https://www.cityofliterature.co.nz/whats-on/robbie-rocks-2017/
SUMMARY:Robbie Rocks 2017
LOCATION:
DESCRIPTION:Robbie Rocks is a great opportunity for Dunedin musicians to see what they can do with some Robbie Burns classics. The challenge is to take a Burns song and reinterpret it for a modern audience. Entries for the 2017 competition are open now.
There are great prizes up for grabs and winning entries may also be added to the displays at the Burns Birthplace Museum in Alloway Scotland, the world centre of Burnsiana.
Robbie Rocks has two categories:
Youth section – open to any performer/band whose members all attended school in 2016.Open section – open to everyone else.
Conditions of entry along with entry forms can be found on the  Toitū Otago Settlers Museum website
END:VEVENT
END:VCALENDAR