BEGIN:VCALENDAR
PRODID:-//www.cityofliterature.co.nz//EN
VERSION:2.0
METHOD:PUBLISH
BEGIN:VEVENT
DTSTART;TZID=America/New_York:20161008T123000
DTEND;TZID=America/New_York:20161008T133000
URL:https://www.cityofliterature.co.nz/whats-on/childrens-author-read-aloud-lucy-davey/
SUMMARY:Children's Author Read-aloud: Lucy Davey
LOCATION:
DESCRIPTION:Come along to the City Library’s Storypit on Saturday 8th October at 12.30pm to hear children’s songwriter and author Lucy Davey read from some of her latest books for children, including The Bees Sneeze, Dinosaur Hunting, and The Mystery Box &amp; Finnigan Flynn.
Lucy will be familiar to young readers from her Fifi la Belle picture books, and Out of Bed Fred!, for which she won the Storylines Joy Cowley award in 2010. Lucy loves talking with children and encouraging them to write stories of their own.
As well as stories to hear, there will be a GRAND COLOURING COMPETITION, so bring your best artistic skills along for a chance to win a prize!
Books will be available to purchase on the day, courtesy of Paper Plus Dunedin
Brought to Dunedin Public Libraries by Scholastic New ZealandChildren’s Storypit, Dunedin City Library
 
END:VEVENT
END:VCALENDAR