BEGIN:VCALENDAR
PRODID:-//www.cityofliterature.co.nz//EN
VERSION:2.0
METHOD:PUBLISH
BEGIN:VEVENT
DTSTART;TZID=America/New_York:20160918T
DTEND;TZID=America/New_York:20161101T
URL:https://www.cityofliterature.co.nz/whats-on/moon-festival-poetry-competition/
SUMMARY:Moon Festival Poetry Competition
LOCATION:
DESCRIPTION:This year we invite you to help us celebrate the Chinese Moon Festival by writing a poem based on the theme Many Moons Ago
There are three age categories Children (5–12); Teens (13–19); Adults (20+). Prizes will be awarded for first and second place in each category.
First prize in the Adult category is a $150 book shop voucher; second prize is a $75 voucher. First prize in the Teen category is a $80 voucher; second prize is a $40 voucher. First prize in the Child category is a $50 voucher; second prize is a $30 voucher. All prize winners will also receive an Annual Pass to the Garden worth $20.
The winning poems will be published here on the Dunedin Chinese Garden’s website.
Conditions of entry along with entry forms can be found here
END:VEVENT
END:VCALENDAR