BEGIN:VCALENDAR
PRODID:-//www.cityofliterature.co.nz//EN
VERSION:2.0
METHOD:PUBLISH
BEGIN:VEVENT
DTSTART;TZID=America/New_York:20161010T193000
DTEND;TZID=America/New_York:20161010T
URL:https://www.cityofliterature.co.nz/whats-on/writers-salon-at-the-cook/
SUMMARY:Writers Salon at The Cook
LOCATION:
DESCRIPTION:WRITERS’ SALONS now at THE COOKThe next NZSA WRITER’S SALON is being held upstairs at The Cook Hotel (corner of Great King and Albany Streets). Readers will be emerging poet Giles Graham, and seasoned novelists Emma Neale and Liam McIlvanney (both be reading from their new works). MC: Beverly Martens. FREE Event. ALL Welcome.
END:VEVENT
END:VCALENDAR