BEGIN:VCALENDAR
PRODID:-//www.cityofliterature.co.nz//EN
VERSION:2.0
METHOD:PUBLISH
BEGIN:VEVENT
DTSTART;TZID=America/New_York:20160924T
DTEND;TZID=America/New_York:20161002T
URL:https://www.cityofliterature.co.nz/whats-on/petal-and-the-moon-flower/
SUMMARY:Petal and the Moon Flower
LOCATION:
DESCRIPTION:This exciting new play by Zac Nicholls has all the ingredients of everyone’s favourite fairy tale. Characters include King Branch, Prince Twig and Princess Petal, as well as the wicked witch and her scheming offsiders, the Bellabutin sisters. All in all, a recipe for trouble. When the witch poisons the king so she can take over the kingdom, Princess Petal has three days to find the antidote — the legendary Moonflower. But will she overcome the dangers on her way? In the woods she meets Aster, a poor local girl, and together they find their way past the Fairy of the Woods and her wild animals to the cave of the Guardian of the Moonflower. But nobody has ever taken the Moonflower from the Guardian before. Will Princess Petal find a way to do this and save her dad?
Saturday 24 September - Sunday 2 October11am and 2pm dailySundays and first Saturday 2pm only
All tickets $8Bookings phone 4776544
Playhouse Theatre, Dunedin
END:VEVENT
END:VCALENDAR