BEGIN:VCALENDAR
PRODID:-//www.cityofliterature.co.nz//EN
VERSION:2.0
METHOD:PUBLISH
BEGIN:VEVENT
DTSTART;TZID=America/New_York:20161025T180000
DTEND;TZID=America/New_York:20161025T193000
URL:https://www.cityofliterature.co.nz/whats-on/author-talk-blockbuster-fergus-hume-and-the-mystery-of-a-hansom-cab/
SUMMARY:Author Talk: Blockbuster! Fergus Hume and the Mystery of a Hansom Cab 
LOCATION:
DESCRIPTION:Before Sherlock Holmes, there was The Mystery of a Hansom Cab—the biggest- and fastest-selling detective novel of the 1800s, and Australia’s first literary blockbuster.
In a talk that fans of true crime, history and crime fiction will enjoy, Blockbuster! author Lucy Sussex relates the story behind former Dunedinite Fergus Hume’s novel that would help define the genre of crime fiction.
Copies of Lucy Sussex’ book Blockbuster! Fergus Hume and the Mystery of a Hansom Cab can be purchases on the night, courtesy of University Book Shop Otago (EFTPOS available)
Dunningham Suite, 4th Floor, Dunedin City Library
FREE
END:VEVENT
END:VCALENDAR