BEGIN:VCALENDAR
PRODID:-//www.cityofliterature.co.nz//EN
VERSION:2.0
METHOD:PUBLISH
BEGIN:VEVENT
DTSTART;TZID=America/New_York:20160920T200000
DTEND;TZID=America/New_York:20160920T
URL:https://www.cityofliterature.co.nz/whats-on/poetry-at-dog-with-two-tails-2/
SUMMARY:Poetry at Dog with Two Tails
LOCATION:
DESCRIPTION:Please join us at Dog With Two Tails at 8pm on Tuesday 20th! We've got an evening of poetry lined up, featuring Majella Cullinane, Talia Marshall, &amp; Matthew Robertson, with MC James Dignan.
And of course, the open mic section awaits your poems! Hope to see you all there!
Free entryAll welcomeDog With Two Tails 
END:VEVENT
END:VCALENDAR