BEGIN:VCALENDAR
PRODID:-//www.cityofliterature.co.nz//EN
VERSION:2.0
METHOD:PUBLISH
BEGIN:VEVENT
DTSTART;TZID=America/New_York:20160922T173000
DTEND;TZID=America/New_York:20160922T
URL:https://www.cityofliterature.co.nz/whats-on/book-launch-getting-it-right/
SUMMARY:Book Launch: Getting it right
LOCATION:
DESCRIPTION:Otago University Press warmly invites you to celebrate the publication of Getting It Right: Poems 1968-2015 by Alan RoddickUniversity Book ShopRSVP: publicity@otago.ac.nz (not necessary to attend but useful for catering)
END:VEVENT
END:VCALENDAR