BEGIN:VCALENDAR
PRODID:-//www.cityofliterature.co.nz//EN
VERSION:2.0
METHOD:PUBLISH
BEGIN:VEVENT
DTSTART;TZID=America/New_York:20160920T190000
DTEND;TZID=America/New_York:20160920T203000
URL:https://www.cityofliterature.co.nz/whats-on/continued-sense-of-wonder-a-series-of-adult-conversations-about-childrens-literature-2/
SUMMARY:Continued Sense of Wonder: A series of adult conversations about children's literature
LOCATION:
DESCRIPTION:Join us this time for a discussion on animal tales old and new.
Bring along an old favourite or a new discovery to share.
Those who attended the recent Children’s Literature Congress in Auckland will also have an opportunity to share their stories.
Booking essential
For more information, contact: Jackie.mcmillan@dcc.govt.nz
Dunningham Suite, 4th Floor, City Library
END:VEVENT
END:VCALENDAR