BEGIN:VCALENDAR
PRODID:-//www.cityofliterature.co.nz//EN
VERSION:2.0
METHOD:PUBLISH
BEGIN:VEVENT
DTSTART;TZID=America/New_York:20161103T
DTEND;TZID=America/New_York:20161124T
URL:https://www.cityofliterature.co.nz/whats-on/national-novel-writing-month/
SUMMARY:National Novel Writing Month
LOCATION:
DESCRIPTION:Grab your pens and laptops and come write in!
An opportunity to write a 50,000 word novel in one month in the company of fellow writers of Dunedin.
All welcome. All genres of writing – the key thing is words on the page.
Thursdays during November, 3pm – 6pm4th Floor, Dunedin City Library
END:VEVENT
END:VCALENDAR