BEGIN:VCALENDAR
PRODID:-//www.cityofliterature.co.nz//EN
VERSION:2.0
METHOD:PUBLISH
BEGIN:VEVENT
DTSTART;TZID=America/New_York:20160927T
DTEND;TZID=America/New_York:20160928T
URL:https://www.cityofliterature.co.nz/whats-on/wonky-donkey-man-and-mr-yipadee-on-tour/
SUMMARY:Wonky Donkey Man and Mr Yipadee on Tour
LOCATION:
DESCRIPTION:In partnership with Dunedin Public Libraries and Dunedin Kindergartens, Yellow Eye Entertainment presents school holiday shows for pre-school to primary aged children, featuring Craig Smith ‘The Wonky Donkey Man’ and introducing, all the way from the UK, Mr Yipadee (Dean O’Brien).BOOKINGS ESSENTIAL – TICKETS STRICTLY LIMITED$15 Adult and child$25 Family pass up to 2 adults and 4 children
Tuesday 27 September9.00am: Special pre-schoolers’ show11.30am: Show for all ages (suitable up to primary age)Coronation Hall, Balmacewan Road, Maori HillTickets available from Dunedin City Library
Wednesday 28 September9.00am: Special pre-schoolers’ show11.30am: Show for all ages (suitable up to primary age)East Taieri School Hall, Cemetery Road, MosgielTickets available from Mosgiel Library
END:VEVENT
END:VCALENDAR