BEGIN:VCALENDAR
PRODID:-//www.cityofliterature.co.nz//EN
VERSION:2.0
METHOD:PUBLISH
BEGIN:VEVENT
DTSTART;TZID=America/New_York:20160929T
DTEND;TZID=America/New_York:20161008T
URL:https://www.cityofliterature.co.nz/whats-on/mary-stuart-at-the-globe-theatre/
SUMMARY:Mary Stuart at The Globe Theatre
LOCATION:
DESCRIPTION:Two queens, cousins and enemies. As part of the 2016 Otago Festival of the Arts the Globe presents this famous political thriller about the last days of Mary Queen of Scots. It will be a premier production of a new adaptation by Dunedin author and historian Keith Scott.
Click here to book online for Mary Stuart
This is a reservation system only, no payment is taken when you bookPlease collect and pay for your tickets at the box office at least 15 minutes pior to the start of the performanceWe only take cash, we don't have EFTPOSThere is no admitance once the performance has started, out of respect for the performers, so please don't be lateOR phone The Globe on 477-3274 and leave the following information on our answer machineYour name and phone numberThe number of seats you requireThe date of the performance
If you don't hear back from us, you can presume your booking is confirmed.Please note we do not have eftpos, cash only please.
Usual Ticket Prices:
Waged $25Concession $20Block of 5 or more $20Opening Night Special $15Members $15School Students (with ID) $10Toybox Theatre $7
END:VEVENT
END:VCALENDAR