BEGIN:VCALENDAR
PRODID:-//www.cityofliterature.co.nz//EN
VERSION:2.0
METHOD:PUBLISH
BEGIN:VEVENT
DTSTART;TZID=America/New_York:20160913T100000
DTEND;TZID=America/New_York:20160913T
URL:https://www.cityofliterature.co.nz/whats-on/tuesday-club-at-toitu-otago-settlers-museum/
SUMMARY:Tuesday Club at Toitu Otago Settlers Museum
LOCATION:
DESCRIPTION:Otago Settlers Association Tuesday Club meets once a month for morning tea and a guest speaker.This month’s speaker is Charmian Smith who will be talking about the costume design for Mary Stuart a play by Friedrich Schiller at the Globe Theatre.
OSA Members gold coin, non-members $5Toitu Otago Settlers Museum - Auditorium
 
END:VEVENT
END:VCALENDAR