BEGIN:VCALENDAR
PRODID:-//www.cityofliterature.co.nz//EN
VERSION:2.0
METHOD:PUBLISH
BEGIN:VEVENT
DTSTART;TZID=America/New_York:20160827T110000
DTEND;TZID=America/New_York:20160827T150000
URL:https://www.cityofliterature.co.nz/whats-on/joy-jeopardy/
SUMMARY:Joy + Jeopardy
LOCATION:
DESCRIPTION:The how-to on arts funding
Got an idea looming or a project on the go?Learn about how multiple funding options will increase your success
4-hour free workshop with kai and performance
More info contact: aratoi@dcc.govt.nzDunedin Public Art Gallery
END:VEVENT
END:VCALENDAR