BEGIN:VCALENDAR
PRODID:-//www.cityofliterature.co.nz//EN
VERSION:2.0
METHOD:PUBLISH
BEGIN:VEVENT
DTSTART;TZID=America/New_York:20160820T
DTEND;TZID=America/New_York:20160917T
URL:https://www.cityofliterature.co.nz/whats-on/new-calendar-event-16/
SUMMARY:89 not out
LOCATION:
DESCRIPTION:Matheson Beaumont Selected works from a 68 year career
"His photographs distil the texture and light of souther New Zealand to produce images praised for their integrity, design and sense of place"
Now in his 90th year, his images have been displayed in some of the most prestigious photographic institutions in the world.
*Order of NZ Merit for his service to photography and the community*The only Australasian photographer to be awarded the prestigious Fenton Medal by the UK Royal Photographic Society
fe29 Gallery30 Sandringham StreetSaint ClairDunedin
021453418fe29.comOpening day all day Saturday 20 August
END:VEVENT
END:VCALENDAR