BEGIN:VCALENDAR
PRODID:-//www.cityofliterature.co.nz//EN
VERSION:2.0
METHOD:PUBLISH
BEGIN:VEVENT
DTSTART;TZID=America/New_York:20160823T200000
DTEND;TZID=America/New_York:20160823T
URL:https://www.cityofliterature.co.nz/whats-on/poetry-at-dog-with-two-tails/
SUMMARY:Poetry at Dog with Two Tails
LOCATION:Dog with Two Tails
DESCRIPTION:Please join the Octagon Poetry Collective at Dog With Two Tails for an evening of poetry featuring Kay McKenzie Cooke and Murray Edmond, with MC Genevieve Scanlan.
Our usual open mic section will of course be running! Hope to see you &amp; your poems there!
 
END:VEVENT
END:VCALENDAR