BEGIN:VCALENDAR
PRODID:-//www.cityofliterature.co.nz//EN
VERSION:2.0
METHOD:PUBLISH
BEGIN:VEVENT
DTSTART;TZID=America/New_York:20161005T103000
DTEND;TZID=America/New_York:20161005T120000
URL:https://www.cityofliterature.co.nz/whats-on/holiday-stories-and-facepainting-with-rainbow-rosalind/
SUMMARY:Holiday Stories & Facepainting with Rainbow Rosalind
LOCATION:
DESCRIPTION:Children's entertainer, Rainbow Rosalind, will have you up and dancing, singing and learning new things this holiday. 
Rainbow Rosalind is a New Zealand children's singer/songwriter who performs at kindergartens, schools and children's events for kiwi kids all over New Zealand.She can't wait to meet you all!Enjoy some stories and songs and stay on to get your face painted afterwards!
FREE
Bookings essential
Suitable for children aged 0-7Dunningham Suite, 4th Floor, Dunedin City Library
END:VEVENT
END:VCALENDAR