BEGIN:VCALENDAR
PRODID:-//www.cityofliterature.co.nz//EN
VERSION:2.0
METHOD:PUBLISH
BEGIN:VEVENT
DTSTART;TZID=America/New_York:20160930T103000
DTEND;TZID=America/New_York:20160930T120000
URL:https://www.cityofliterature.co.nz/whats-on/school-holiday-activities-creature-costume-workshop/
SUMMARY:School Holiday Activities: Creature Costume Workshop
LOCATION:
DESCRIPTION:Come and make a cool furry fancy dress and then turn your ‘tail’ into a ‘tale’ in a storytime performance.All materials supplied.
Children under 10 must be accompanied by an adult at all times, and adults are encouraged to help their little ones at the workshop.
Suitable for children aged 5-10
FREE
Bookings Essential
Dunningham Suite, 4th Floor, Dunedin City Library
END:VEVENT
END:VCALENDAR