BEGIN:VCALENDAR
PRODID:-//www.cityofliterature.co.nz//EN
VERSION:2.0
METHOD:PUBLISH
BEGIN:VEVENT
DTSTART;TZID=America/New_York:20160820T113000
DTEND;TZID=America/New_York:20160820T
URL:https://www.cityofliterature.co.nz/whats-on/storytime-with-captain-cornflakes-and-rosalind-the-fairy/
SUMMARY:Storytime with Captain Cornflakes and Rosalind the Fairy
LOCATION:
DESCRIPTION:Join award-winning children's radio host Captain Cornflakes and Rainbow Rosalind the Fairy at the Storypit, Dunedin City Library for this special event, especially for the young ones. The wacky space pirate will be reading stories and recording segments for his Space Station Kiwi Saturday morning show.
Storypit, Dunedin City Library
END:VEVENT
END:VCALENDAR