BEGIN:VCALENDAR
PRODID:-//www.cityofliterature.co.nz//EN
VERSION:2.0
METHOD:PUBLISH
BEGIN:VEVENT
DTSTART;TZID=America/New_York:20160814T140000
DTEND;TZID=America/New_York:20160814T
URL:https://www.cityofliterature.co.nz/whats-on/heritage-matters/
SUMMARY:Heritage Matters
LOCATION:
DESCRIPTION:A 'Heritage Matters' panel discussion. Join Southern Heritage Trust's Dougal Stevenson, Bill Southworth, Judy Southworth, Jane Edwards, Ann Barrowclough and Keith Scott as they discuss their Heritage Matters radio show and what it is that makes Dunedin the heritage capital of New Zealand.Toitu Otago Settlers Museum
END:VEVENT
END:VCALENDAR