BEGIN:VCALENDAR
PRODID:-//www.cityofliterature.co.nz//EN
VERSION:2.0
METHOD:PUBLISH
BEGIN:VEVENT
DTSTART;TZID=America/New_York:20160817T173000
DTEND;TZID=America/New_York:20160817T
URL:https://www.cityofliterature.co.nz/whats-on/book-launch-nothing-for-it-but-to-sing/
SUMMARY:Book Launch: Nothing for it but to sing
LOCATION:
DESCRIPTION:Otago University Press warmly invites you to celebrate the publication of Nothing for it but to singPoems by Michael Harlow, winner of the Kathleen Grattan award for poetry 2015To be Launched by Cilla McQueen
RSVP publicity@otago.ac.nz by Monday 15 AugustUniversity Book Shop, 378 Great King St, Dunedin
END:VEVENT
END:VCALENDAR