BEGIN:VCALENDAR
PRODID:-//www.cityofliterature.co.nz//EN
VERSION:2.0
METHOD:PUBLISH
BEGIN:VEVENT
DTSTART;TZID=America/New_York:20160905T123000
DTEND;TZID=America/New_York:20160905T
URL:https://www.cityofliterature.co.nz/whats-on/share-your-story/
SUMMARY:Share your Story
LOCATION:
DESCRIPTION:In celebration of Adult Learners’ Week Literacy Aotearoa and the Dunedin Public Library invite you to Share your story
Get help to write your story!Workshops held at Literacy Aotearoa, Carnegie Centre :
August 15 - 1:00 to 3:00 pm
August 22nd - 1:00 to 3:00 pm
August 29th - 1:00 to 3:00 pm
Dunningham Suite, Dunedin Public Library
END:VEVENT
END:VCALENDAR