BEGIN:VCALENDAR
PRODID:-//www.cityofliterature.co.nz//EN
VERSION:2.0
METHOD:PUBLISH
BEGIN:VEVENT
DTSTART;TZID=America/New_York:20160828T143000
DTEND;TZID=America/New_York:20160828T
URL:https://www.cityofliterature.co.nz/whats-on/dwrf-pop-up-winter/
SUMMARY:DWRF Winter Pop-up Session
LOCATION:
DESCRIPTION:Dunedin Writers and Readers Festival in association with WORD Christchurch presents the Winter Pop-up SessionFeaturing:
Prize-Winning Canadian Novelist Elizabeth Hay at 2.30pm
Canadian Climate Change Activist Sheila Watt-Cloutier at 4.00pm
Ockham NZ Book Award Winner Stephen Daisley at 6.00pm
Tickets $15 per event or 3 events for $30Tickets at University Bookshop 03 477 6976www.unibooks.co.nzDunedin Public Art Gallery
END:VEVENT
END:VCALENDAR