BEGIN:VCALENDAR
PRODID:-//www.cityofliterature.co.nz//EN
VERSION:2.0
METHOD:PUBLISH
BEGIN:VEVENT
DTSTART;TZID=America/New_York:20160808T160000
DTEND;TZID=America/New_York:20160808T170000
URL:https://www.cityofliterature.co.nz/whats-on/live-from-the-teen-space-otago-access-radio-youth-zone/
SUMMARY:Live from the Teen Space - Otago Access Radio 'Youth Zone'
LOCATION:
DESCRIPTION:Be part of the ‘Big Listen’ – a month-long celebration of all things Access radio.
‘Youth Zone’ will broadcast live from the Teen Space with a panel of young volunteer broadcasters hosting an entertaining afternoon of music and chat. Come along and be part of the show, and find out how you can get involved in ‘Youth Zone’.
Contact: Domi Angelo-Laloli, Youth Coordinator, Otago Access RadioPhone: 03 471 6161
The Teen Space, Floor 2, City Library, Moray Place
END:VEVENT
END:VCALENDAR