BEGIN:VCALENDAR
PRODID:-//www.cityofliterature.co.nz//EN
VERSION:2.0
METHOD:PUBLISH
BEGIN:VEVENT
DTSTART;TZID=America/New_York:20160928T103000
DTEND;TZID=America/New_York:20160928T110000
URL:https://www.cityofliterature.co.nz/whats-on/new-calendar-event-15/
SUMMARY:Storytelling with Namakau
LOCATION:
DESCRIPTION:Namakau Nalumango is bringing a touch of African joy to Dunedin for the school holidays!Bring your little ones along for some delightful stories to keep them entertained and learn about a new culture.
Children’s Storypit, Ground Floor, City Library
END:VEVENT
END:VCALENDAR