BEGIN:VCALENDAR
PRODID:-//www.cityofliterature.co.nz//EN
VERSION:2.0
METHOD:PUBLISH
BEGIN:VEVENT
DTSTART;TZID=America/New_York:20160919T180000
DTEND;TZID=America/New_York:20160919T193000
URL:https://www.cityofliterature.co.nz/whats-on/author-talk-lindsey-dawson/
SUMMARY:Author Talk: Lindsey Dawson
LOCATION:
DESCRIPTION:University Book Shop, in partnership with Dunedin Public Libraries are pleased to host New Zealand writer, Lindsey Dawson.
In pioneer towns it doesn’t do to speak your mind or seek unseemly delights!
Lindsey’s latest book, Scarlet &amp; Magenta, is a historical fiction novel about Victorians’ deepest secrets, and inspired by a true, shocking event.
Books will be available for purchase, courtesy of University Book Shop (EFTPOS available)
Booking essential: visit the events page of the Libraries’ website www.dunedinlibraries.govt.nz/events for RSVP details and information, or contact 03 474 3690 / library@dcc.govt.nz
Dunningham Suite, 4th Floor, Dunedin City Library
 
END:VEVENT
END:VCALENDAR