BEGIN:VCALENDAR
PRODID:-//www.cityofliterature.co.nz//EN
VERSION:2.0
METHOD:PUBLISH
BEGIN:VEVENT
DTSTART;TZID=America/New_York:20160904T133000
DTEND;TZID=America/New_York:20160904T143000
URL:https://www.cityofliterature.co.nz/whats-on/sharing-our-stories-gerard-hindmarsh/
SUMMARY:Sharing Our Stories: Gerard Hindmarsh
LOCATION:
DESCRIPTION:The Dunedin Branch of the NZ Society of Genealogists is pleased to host author and journalist Gerard Hindmarsh.
The Golden Bay-based writer is the author of five books published by Potton and Burton, and will speak about sharing family stories.
All welcome.
Dunningham Suite, 4th Floor, City Library
END:VEVENT
END:VCALENDAR