BEGIN:VCALENDAR
PRODID:-//www.cityofliterature.co.nz//EN
VERSION:2.0
METHOD:PUBLISH
BEGIN:VEVENT
DTSTART;TZID=America/New_York:20160831T173000
DTEND;TZID=America/New_York:20160831T
URL:https://www.cityofliterature.co.nz/whats-on/book-launch-billy-bird/
SUMMARY:Book Launch: Billy Bird
LOCATION:
DESCRIPTION:You are warmly invited to celebrate Emma Neale’s new novel Billy Bird to be officially launched by Barbara LarsonRSVP by Friday, 26 August to jwheeler@penguinrandomhouse.co.nzUniversity Bookshop, 378 Great King St, Dunedin
END:VEVENT
END:VCALENDAR