BEGIN:VCALENDAR
PRODID:-//www.cityofliterature.co.nz//EN
VERSION:2.0
METHOD:PUBLISH
BEGIN:VEVENT
DTSTART;TZID=America/New_York:20160805T173000
DTEND;TZID=America/New_York:20160805T193000
URL:https://www.cityofliterature.co.nz/whats-on/echoes/
SUMMARY:Echoes
LOCATION:
DESCRIPTION:Urban Dream Brokerage and Storybox are happy to invite you to the launch of "Echoes" an interactive digital installation by Joe Dixon.
Echoes takes thousands of images from decades of Dunedin's photographic archives, and creates an image of the present recreated from those of the past.
Upload a photo using the hashtag #echoesdunedin to twitter and you can become part of Echoes.
Please join us at the Wall St Mall on Friday the 5th of August from 5.30 - 7.30pm.
END:VEVENT
END:VCALENDAR