BEGIN:VCALENDAR
PRODID:-//www.cityofliterature.co.nz//EN
VERSION:2.0
METHOD:PUBLISH
BEGIN:VEVENT
DTSTART;TZID=America/New_York:20160804T123000
DTEND;TZID=America/New_York:20160804T130000
URL:https://www.cityofliterature.co.nz/whats-on/lunchtime-bites-grounded/
SUMMARY:Lunchtime Bites: Grounded
LOCATION:
DESCRIPTION:Sample the lastest play of the season from the Fortune Theatre over a hot cuppa, and go into the draw to win tickets to the show!
When an unexpected pregnancy grounds an F16 fighter pilot, she finds herself repurposed to flying remote-controlled drones from an air-conditioned trailer in the Las Vegas desert, hunting terrorists on screen by day and being a wife and mother at night. The boundaries between the desert where she lives and the one she patrols virtually from half a world away soon begin to blur.
Winner of a Fringe First award in 2013, this is a haunting, extraordinary and topical play about war, family and empathy.
Ground Floor, City Library
 
 
 
 
 
 
END:VEVENT
END:VCALENDAR