BEGIN:VCALENDAR
PRODID:-//www.cityofliterature.co.nz//EN
VERSION:2.0
METHOD:PUBLISH
BEGIN:VEVENT
DTSTART;TZID=America/New_York:20161204T140000
DTEND;TZID=America/New_York:20161204T143000
URL:https://www.cityofliterature.co.nz/whats-on/once-upon-a-sunday-christmas-crackers/
SUMMARY:Once Upon a Sunday: Christmas Crackers
LOCATION:
DESCRIPTION:Are you excited about Christmas? So are we!Come and hear some festive stories from local storyteller Kaitrin McMullan.Plus, learn to sign a Christmas song and make a Christmas decoration to take home.
Children’s Storypit, City Library
END:VEVENT
END:VCALENDAR